BEGIN:VCALENDAR
VERSION:2.0
PRODID:-//Republic Airways - ECPv6.15.12.2//NONSGML v1.0//EN
CALSCALE:GREGORIAN
METHOD:PUBLISH
X-WR-CALNAME:Republic Airways
X-ORIGINAL-URL:https://careers.rjet.com
X-WR-CALDESC:Events for Republic Airways
REFRESH-INTERVAL;VALUE=DURATION:PT1H
X-Robots-Tag:noindex
X-PUBLISHED-TTL:PT1H
BEGIN:VTIMEZONE
TZID:America/New_York
BEGIN:DAYLIGHT
TZOFFSETFROM:-0500
TZOFFSETTO:-0400
TZNAME:EDT
DTSTART:20220313T070000
END:DAYLIGHT
BEGIN:STANDARD
TZOFFSETFROM:-0400
TZOFFSETTO:-0500
TZNAME:EST
DTSTART:20221106T060000
END:STANDARD
BEGIN:DAYLIGHT
TZOFFSETFROM:-0500
TZOFFSETTO:-0400
TZNAME:EDT
DTSTART:20230312T070000
END:DAYLIGHT
BEGIN:STANDARD
TZOFFSETFROM:-0400
TZOFFSETTO:-0500
TZNAME:EST
DTSTART:20231105T060000
END:STANDARD
BEGIN:DAYLIGHT
TZOFFSETFROM:-0500
TZOFFSETTO:-0400
TZNAME:EDT
DTSTART:20240310T070000
END:DAYLIGHT
BEGIN:STANDARD
TZOFFSETFROM:-0400
TZOFFSETTO:-0500
TZNAME:EST
DTSTART:20241103T060000
END:STANDARD
END:VTIMEZONE
BEGIN:VEVENT
DTSTART;TZID=America/New_York:20230713T093000
DTEND;TZID=America/New_York:20230713T150000
DTSTAMP:20260422T073046
CREATED:20230630T122310Z
LAST-MODIFIED:20230705T050730Z
UID:5903-1689240600-1689260400@careers.rjet.com
SUMMARY:NAA New England Career Fair
DESCRIPTION:NAA New England Career Fair\n  \n130 Baker Ave. Extension | Concord\, MA 01742\n2023-07-13T09:30:00 – Eastern Standard Time \nStop by our booth at National Aviation Academy’s Career Fair and chat with a Republic Airways Recruiter about early career opportunities at Republic Airways. Please register for the event\, so we know to look forward to seeing you there!
URL:https://careers.rjet.com/event/naa-new-england-career-fair/
LOCATION:NAA New England Career Fair\, 130 Baker Avenue Extension\, Middlesex County\, Massachusetts\, 01742\, United States
CATEGORIES:Maintenance
END:VEVENT
END:VCALENDAR