BEGIN:VCALENDAR
VERSION:2.0
PRODID:-//Republic Airways - ECPv6.15.12.2//NONSGML v1.0//EN
CALSCALE:GREGORIAN
METHOD:PUBLISH
X-WR-CALNAME:Republic Airways
X-ORIGINAL-URL:https://careers.rjet.com
X-WR-CALDESC:Events for Republic Airways
REFRESH-INTERVAL;VALUE=DURATION:PT1H
X-Robots-Tag:noindex
X-PUBLISHED-TTL:PT1H
BEGIN:VTIMEZONE
TZID:America/Chicago
BEGIN:DAYLIGHT
TZOFFSETFROM:-0600
TZOFFSETTO:-0500
TZNAME:CDT
DTSTART:20220313T080000
END:DAYLIGHT
BEGIN:STANDARD
TZOFFSETFROM:-0500
TZOFFSETTO:-0600
TZNAME:CST
DTSTART:20221106T070000
END:STANDARD
BEGIN:DAYLIGHT
TZOFFSETFROM:-0600
TZOFFSETTO:-0500
TZNAME:CDT
DTSTART:20230312T080000
END:DAYLIGHT
BEGIN:STANDARD
TZOFFSETFROM:-0500
TZOFFSETTO:-0600
TZNAME:CST
DTSTART:20231105T070000
END:STANDARD
BEGIN:DAYLIGHT
TZOFFSETFROM:-0600
TZOFFSETTO:-0500
TZNAME:CDT
DTSTART:20240310T080000
END:DAYLIGHT
BEGIN:STANDARD
TZOFFSETFROM:-0500
TZOFFSETTO:-0600
TZNAME:CST
DTSTART:20241103T070000
END:STANDARD
END:VTIMEZONE
BEGIN:VEVENT
DTSTART;TZID=America/Chicago:20230724T090000
DTEND;TZID=America/Chicago:20230730T000000
DTSTAMP:20260422T135547
CREATED:20230721T150700Z
LAST-MODIFIED:20230721T150700Z
UID:5801-1690189200-1690675200@careers.rjet.com
SUMMARY:EAA AirVenture Oshkosh 2023
DESCRIPTION:525 W 20th Ave | Oshkosh\, WI 54902 \n2023-07-24T09:00:00 – Central Standard Time \nEAA AirVenture Oshkosh is an annual air show and gathering of aviation enthusiasts held each summer at Wittman Regional Airport in Oshkosh\, Wisconsin. It truly is the “World’s Greatest Aviation Celebration.”  \nStop by our booth and chat with Republic recruiters and pilots to learn more about opportunities that await you at Republic Airways! \nFor more information or questions\, please contact our team at Talent@rjet.com or PilotRecruitment@rjet.com.
URL:https://careers.rjet.com/event/eaa-airventure-oshkosh-2023/
LOCATION:EAA AirVenture Oshkosh 2023\, 525 W 20th Ave\, Winnebago County\, Wisconsin\, 54902\, United States
END:VEVENT
END:VCALENDAR