BEGIN:VCALENDAR
VERSION:2.0
PRODID:-//Republic Airways - ECPv6.15.12.2//NONSGML v1.0//EN
CALSCALE:GREGORIAN
METHOD:PUBLISH
X-WR-CALNAME:Republic Airways
X-ORIGINAL-URL:https://careers.rjet.com
X-WR-CALDESC:Events for Republic Airways
REFRESH-INTERVAL;VALUE=DURATION:PT1H
X-Robots-Tag:noindex
X-PUBLISHED-TTL:PT1H
BEGIN:VTIMEZONE
TZID:America/New_York
BEGIN:DAYLIGHT
TZOFFSETFROM:-0500
TZOFFSETTO:-0400
TZNAME:EDT
DTSTART:20220313T070000
END:DAYLIGHT
BEGIN:STANDARD
TZOFFSETFROM:-0400
TZOFFSETTO:-0500
TZNAME:EST
DTSTART:20221106T060000
END:STANDARD
BEGIN:DAYLIGHT
TZOFFSETFROM:-0500
TZOFFSETTO:-0400
TZNAME:EDT
DTSTART:20230312T070000
END:DAYLIGHT
BEGIN:STANDARD
TZOFFSETFROM:-0400
TZOFFSETTO:-0500
TZNAME:EST
DTSTART:20231105T060000
END:STANDARD
BEGIN:DAYLIGHT
TZOFFSETFROM:-0500
TZOFFSETTO:-0400
TZNAME:EDT
DTSTART:20240310T070000
END:DAYLIGHT
BEGIN:STANDARD
TZOFFSETFROM:-0400
TZOFFSETTO:-0500
TZNAME:EST
DTSTART:20241103T060000
END:STANDARD
END:VTIMEZONE
BEGIN:VEVENT
DTSTART;TZID=America/New_York:20230719T113000
DTEND;TZID=America/New_York:20230719T150000
DTSTAMP:20260424T081118
CREATED:20230717T210244Z
LAST-MODIFIED:20230717T210244Z
UID:6102-1689766200-1689778800@careers.rjet.com
SUMMARY:Aviation Institute of Maintenance Philadelphia Career Fair
DESCRIPTION:Stop by our booth at the Aviation Institute of Maintenance PHL and chat with Recruiters and Republic Associates about early career opportunities at Republic Airways. Please register for the event\, so we know to look forward to seeing you there!  
URL:https://careers.rjet.com/event/aviation-institute-of-maintenance-philadelphia-career-fair/
LOCATION:AIM PHL\, 3001 Grant Ave\, Philadelphia County\, Pennsylvania\, 19114\, United States
CATEGORIES:Maintenance
END:VEVENT
END:VCALENDAR