BEGIN:VCALENDAR
VERSION:2.0
PRODID:-//Republic Airways - ECPv6.15.12.2//NONSGML v1.0//EN
CALSCALE:GREGORIAN
METHOD:PUBLISH
X-WR-CALNAME:Republic Airways
X-ORIGINAL-URL:https://careers.rjet.com
X-WR-CALDESC:Events for Republic Airways
REFRESH-INTERVAL;VALUE=DURATION:PT1H
X-Robots-Tag:noindex
X-PUBLISHED-TTL:PT1H
BEGIN:VTIMEZONE
TZID:America/New_York
BEGIN:DAYLIGHT
TZOFFSETFROM:-0500
TZOFFSETTO:-0400
TZNAME:EDT
DTSTART:20250309T070000
END:DAYLIGHT
BEGIN:STANDARD
TZOFFSETFROM:-0400
TZOFFSETTO:-0500
TZNAME:EST
DTSTART:20251102T060000
END:STANDARD
BEGIN:DAYLIGHT
TZOFFSETFROM:-0500
TZOFFSETTO:-0400
TZNAME:EDT
DTSTART:20260308T070000
END:DAYLIGHT
BEGIN:STANDARD
TZOFFSETFROM:-0400
TZOFFSETTO:-0500
TZNAME:EST
DTSTART:20261101T060000
END:STANDARD
BEGIN:DAYLIGHT
TZOFFSETFROM:-0500
TZOFFSETTO:-0400
TZNAME:EDT
DTSTART:20270314T070000
END:DAYLIGHT
BEGIN:STANDARD
TZOFFSETFROM:-0400
TZOFFSETTO:-0500
TZNAME:EST
DTSTART:20271107T060000
END:STANDARD
END:VTIMEZONE
BEGIN:VEVENT
DTSTART;TZID=America/New_York:20260501T120000
DTEND;TZID=America/New_York:20260501T140000
DTSTAMP:20260426T023635
CREATED:20260422T161414Z
LAST-MODIFIED:20260422T161414Z
UID:10792-1777636800-1777644000@careers.rjet.com
SUMMARY:University of Maryland Eastern Shore RJet Day
DESCRIPTION:This event is open to only registered students at UMES. Community members not actively enrolled with this organization are encouraged to return to our events page for other upcoming opportunities to meet us in-person. \nJoin our Ambassadors at UMES. Be prepared to learn about our various Corporate Pipeline Programs and full-time career opportunities at Republic Airways. Please register for the event\, so we know to look forward to seeing you there!  \nFor more information or questions\, please contact our team at Talent@rjet.com. 
URL:https://careers.rjet.com/event/university-of-maryland-eastern-shore-rjet-day-7/
LOCATION:University of Maryland Eastern Shore\, 11868 College Backbone Rd\, Princess Anne\, Maryland\, 21853\, United States
CATEGORIES:Pilot
END:VEVENT
END:VCALENDAR