BEGIN:VCALENDAR
VERSION:2.0
PRODID:-//Republic Airways - ECPv6.15.12.2//NONSGML v1.0//EN
CALSCALE:GREGORIAN
METHOD:PUBLISH
X-ORIGINAL-URL:https://careers.rjet.com
X-WR-CALDESC:Events for Republic Airways
REFRESH-INTERVAL;VALUE=DURATION:PT1H
X-Robots-Tag:noindex
X-PUBLISHED-TTL:PT1H
BEGIN:VTIMEZONE
TZID:America/New_York
BEGIN:DAYLIGHT
TZOFFSETFROM:-0500
TZOFFSETTO:-0400
TZNAME:EDT
DTSTART:20250309T070000
END:DAYLIGHT
BEGIN:STANDARD
TZOFFSETFROM:-0400
TZOFFSETTO:-0500
TZNAME:EST
DTSTART:20251102T060000
END:STANDARD
BEGIN:DAYLIGHT
TZOFFSETFROM:-0500
TZOFFSETTO:-0400
TZNAME:EDT
DTSTART:20260308T070000
END:DAYLIGHT
BEGIN:STANDARD
TZOFFSETFROM:-0400
TZOFFSETTO:-0500
TZNAME:EST
DTSTART:20261101T060000
END:STANDARD
BEGIN:DAYLIGHT
TZOFFSETFROM:-0500
TZOFFSETTO:-0400
TZNAME:EDT
DTSTART:20270314T070000
END:DAYLIGHT
BEGIN:STANDARD
TZOFFSETFROM:-0400
TZOFFSETTO:-0500
TZNAME:EST
DTSTART:20271107T060000
END:STANDARD
END:VTIMEZONE
BEGIN:VTIMEZONE
TZID:America/Chicago
BEGIN:DAYLIGHT
TZOFFSETFROM:-0600
TZOFFSETTO:-0500
TZNAME:CDT
DTSTART:20250309T080000
END:DAYLIGHT
BEGIN:STANDARD
TZOFFSETFROM:-0500
TZOFFSETTO:-0600
TZNAME:CST
DTSTART:20251102T070000
END:STANDARD
BEGIN:DAYLIGHT
TZOFFSETFROM:-0600
TZOFFSETTO:-0500
TZNAME:CDT
DTSTART:20260308T080000
END:DAYLIGHT
BEGIN:STANDARD
TZOFFSETFROM:-0500
TZOFFSETTO:-0600
TZNAME:CST
DTSTART:20261101T070000
END:STANDARD
BEGIN:DAYLIGHT
TZOFFSETFROM:-0600
TZOFFSETTO:-0500
TZNAME:CDT
DTSTART:20270314T080000
END:DAYLIGHT
BEGIN:STANDARD
TZOFFSETFROM:-0500
TZOFFSETTO:-0600
TZNAME:CST
DTSTART:20271107T070000
END:STANDARD
END:VTIMEZONE
BEGIN:VTIMEZONE
TZID:America/Puerto_Rico
BEGIN:STANDARD
TZOFFSETFROM:-0400
TZOFFSETTO:-0400
TZNAME:AST
DTSTART:20250101T000000
END:STANDARD
END:VTIMEZONE
BEGIN:VEVENT
DTSTART;TZID=America/New_York:20260424T180000
DTEND;TZID=America/New_York:20260424T200000
DTSTAMP:20260426T040921
CREATED:20260420T165420Z
LAST-MODIFIED:20260420T165420Z
UID:10786-1777053600-1777060800@careers.rjet.com
SUMMARY:Delaware State University RJet Day
DESCRIPTION:This event is open to only registered students at Delaware State University. Community members not actively enrolled with this organization are encouraged to return to our events page for other upcoming opportunities to meet us in-person. \nJoin our Recruiters at DSU. Be prepared to learn about our various Corporate Pipeline Programs and full-time career opportunities at Republic Airways. Please register for the event\, so we know to look forward to seeing you there!  \nFor more information or questions\, please contact our team at Talent@rjet.com.  
URL:https://careers.rjet.com/event/delaware-state-university-rjet-day-7/
LOCATION:Delaware State University MLK Student Center\, 1200 N Dupont Hwy\, Kent County\, Delaware\, 19901\, United States
CATEGORIES:Pilot
END:VEVENT
BEGIN:VEVENT
DTSTART;TZID=America/Chicago:20260424T090000
DTEND;TZID=America/Chicago:20260424T150000
DTSTAMP:20260426T040921
CREATED:20260422T193914Z
LAST-MODIFIED:20260422T193914Z
UID:10793-1777021200-1777042800@careers.rjet.com
SUMMARY:Southern Illinois University Spring 2026 Career Fair
DESCRIPTION:Join our Pilots and Recruiters at ISU’s Flight Academy! Be prepared to learn about our Cadet program for current Part 141 and Part 61 flight students\, industry-leading Pilot contract\, and early career opportunities at Republic Airways. \nFor more information or questions\, please contact our team at Talent@rjet.com.
URL:https://careers.rjet.com/event/southern-illinois-university-spring-2026-career-fair/
LOCATION:SIU Transportation Education Center\, 545 N Airport Rd\, Murphysboro\, Illinois\, 62966\, United States
CATEGORIES:Pilot
END:VEVENT
BEGIN:VEVENT
DTSTART;TZID=America/New_York:20260424T080000
DTEND;TZID=America/New_York:20260424T120000
DTSTAMP:20260426T040921
CREATED:20260327T175412Z
LAST-MODIFIED:20260327T175412Z
UID:10461-1777017600-1777032000@careers.rjet.com
SUMMARY:FAPA Pilot Career Fair - DCA
DESCRIPTION:Stop by our booth at the FAPA Pilot Job Fair in Washington\, D.C.! FAPA Pilot Job Fairs are for qualified\, job seeking pilots with 250+ hours or a commercial certificate. Be prepared to learn about Republic Airways growing fleet and career opportunities.Please register for the event with Republic Airways\, as well as on the FAPA website: FAPA.aero/Jobs.Apply online using the link below! careers.rjet.com/Airline-Careers/PilotFor more information or questions\, please contact our team at PilotRecruitment@rjet.com
URL:https://careers.rjet.com/event/fapa-pilot-career-fair-dca/
LOCATION:Hilton Arlington National Landing\, Washington\, Washington\, District of Columbia\, United States
CATEGORIES:Pilot
END:VEVENT
BEGIN:VEVENT
DTSTART;TZID=America/New_York:20260422T000000
DTEND;TZID=America/New_York:20260424T234500
DTSTAMP:20260426T040921
CREATED:20260327T162541Z
LAST-MODIFIED:20260327T162541Z
UID:10718-1776816000-1777074300@careers.rjet.com
SUMMARY:University of North Dakota 2026
DESCRIPTION:
URL:https://careers.rjet.com/event/university-of-north-dakota-2026/
LOCATION:University of North Dakota\, 2901 University Ave\, Grand Forks County\, North Dakota\, 58202\, United States
CATEGORIES:Pilot
END:VEVENT
BEGIN:VEVENT
DTSTART;TZID=America/New_York:20260421T160000
DTEND;TZID=America/New_York:20260421T190000
DTSTAMP:20260426T040921
CREATED:20260420T165520Z
LAST-MODIFIED:20260420T165520Z
UID:10783-1776787200-1776798000@careers.rjet.com
SUMMARY:Hampton University RJet Day
DESCRIPTION:This event is open to only registered students at Hampton University. Community members not actively enrolled with this organization are encouraged to return to our events page for other upcoming opportunities to meet us in-person. \nCalling all Hampton University students! Join our Recruiters at HU. Be prepared to learn about our various Corporate Pipeline Programs and full-time career opportunities at Republic Airways. Please register for the event\, so we know to look forward to seeing you there!  \nFor more information or questions\, please contact our team at Talent@rjet.com.  
URL:https://careers.rjet.com/event/hampton-university-rjet-day-4/
LOCATION:Hampton University\, Science and Technology Building
CATEGORIES:Pilot
END:VEVENT
BEGIN:VEVENT
DTSTART;TZID=America/New_York:20260414T183000
DTEND;TZID=America/New_York:20260414T203000
DTSTAMP:20260426T040921
CREATED:20260414T133459Z
LAST-MODIFIED:20260414T133459Z
UID:10767-1776191400-1776198600@careers.rjet.com
SUMMARY:Delaware State University RJet Day
DESCRIPTION:This event is open to only registered students at Delaware State University. Community members not actively enrolled with this organization are encouraged to return to our events page for other upcoming opportunities to meet us in-person. \nJoin our pilots and recruiters at DSU! Be prepared to learn about our Cadet program for current Part 141 and Part 61 flight students\, industry-leading Pilot contract\, and early career opportunities at Republic Airways. Please register for the event\, so we know to look forward to seeing you there!  \nFor more information or questions\, please contact our team at Talent@rjet.com. 
URL:https://careers.rjet.com/event/delaware-state-univesity-rjet-day/
LOCATION:Delaware State University MLK Student Center\, 1200 N Dupont Hwy\, Kent County\, Delaware\, 19901\, United States
CATEGORIES:Pilot
END:VEVENT
BEGIN:VEVENT
DTSTART;TZID=America/New_York:20260414T113000
DTEND;TZID=America/New_York:20260414T140000
DTSTAMP:20260426T040921
CREATED:20260414T134329Z
LAST-MODIFIED:20260414T134329Z
UID:10772-1776166200-1776175200@careers.rjet.com
SUMMARY:University of Maryland Eastern Shore RJet Day
DESCRIPTION:This event is open to only registered students at UMES. Community members not actively enrolled with this organization are encouraged to return to our events page for other upcoming opportunities to meet us in-person. \nJoin our pilots and recruiters at UMES! Be prepared to learn about our Cadet program for current Part 141 and Part 61 flight students\, industry-leading Pilot contract\, and early career opportunities at Republic Airways. Please register for the event\, so we know to look forward to seeing you there!  \nFor more information or questions\, please contact our team at Talent@rjet.com.
URL:https://careers.rjet.com/event/university-of-maryland-eastern-shore-rjet-day-6/
LOCATION:University of Maryland Eastern Shore\, 11868 College Backbone Rd\, Princess Anne\, Maryland\, 21853\, United States
CATEGORIES:Pilot
END:VEVENT
BEGIN:VEVENT
DTSTART;TZID=America/New_York:20260414T000000
DTEND;TZID=America/New_York:20260419T234500
DTSTAMP:20260426T040921
CREATED:20260226T210910Z
LAST-MODIFIED:20260226T210910Z
UID:10612-1776124800-1776642300@careers.rjet.com
SUMMARY:Sun 'N Fun Aerospace Expo 2026
DESCRIPTION:From its humble beginnings in 1974 as a fly-in for sport aviation enthusiasts\, the SUN ‘n FUN Aerospace Expo has grown into one of the largest and most successful aviation events on earth. We are Florida’s largest annual convention of any kind\, and each year over 200\,000 visitors flock to what has become known as “Aviation’s Season Opener” or “Spring Break for Pilots.” \nPilots flying into the Expo are fascinated by the vision of hundreds of aircraft showcased in all shapes and sizes. Aircraft areas include Vintage\, Homebuilt\, Aerobatic\, Warbird\, Jet\, and Light Sport. To serve all those flying in\, a major trade show is part of SUN ‘n FUN. Over 500 exhibitors have an incredible lineup of products and services\, hands-on workshops teach hundreds of building and maintenance skills\, and dozens of forums educate pilots and maintainers about safety\, new products\, and an infinite number of other timely topics. Not just for pilots\, SUN ‘n FUN has STEM and Career Fair activities\, plus a Family Fun Zone and\, of course\, our world-famous daily and night airshows that feature breathtaking displays from dozens of military and civilian performers. \nPlease join Republic and LIFT Pilots and Associates in booths CF – 13 and CF – 14 in the Career Fair.  \nPlease ensure you register with Sun n’ Fun here: https://flysnf.org/tickets/buy-tickets/ \nFor more information or questions\, please contact our team at talent@rjet.com. 
URL:https://careers.rjet.com/event/sun-n-fun-aerospace-expo-2026/
LOCATION:Lakeland Linder International Airport\, 4075 James C. Ray Dr\, Lakeland\, 33811\, United States
CATEGORIES:Pilot
END:VEVENT
BEGIN:VEVENT
DTSTART;TZID=America/New_York:20260410T100000
DTEND;TZID=America/New_York:20260410T110000
DTSTAMP:20260426T040921
CREATED:20260410T140045Z
LAST-MODIFIED:20260410T140045Z
UID:10760-1775815200-1775818800@careers.rjet.com
SUMMARY:Southeast Missouri State RJet Day
DESCRIPTION:Join our Pilots and Recruiters at SEMO’s Rjet Day! Be prepared to learn about our Cadet program for current Part 141 and Part 61 flight students\, industry-leading Pilot contract\, and early career opportunities at Republic Airways. \nFor more information or questions\, please contact our team at Talent@rjet.com. 
URL:https://careers.rjet.com/event/southeast-missouri-state-rjet-day/
LOCATION:SEMO Airport\, 860 Limbaugh Dr\, Scott City\, MO 63701\, Cape Girardeau\, Missouri\, 63701\, United States
CATEGORIES:Pilot
END:VEVENT
BEGIN:VEVENT
DTSTART;TZID=America/New_York:20260401T000000
DTEND;TZID=America/New_York:20260401T234500
DTSTAMP:20260426T040921
CREATED:20260401T154550Z
LAST-MODIFIED:20260401T154550Z
UID:10740-1775001600-1775087100@careers.rjet.com
SUMMARY:University of Nebraska - Omaha Rjet Day
DESCRIPTION:
URL:https://careers.rjet.com/event/university-of-nebraska-omaha-rjet-day/
LOCATION:University of Nebraska at Omaha\, 6001 Dodge St\, Omaha\, 68182\, United States
CATEGORIES:Pilot
END:VEVENT
BEGIN:VEVENT
DTSTART;TZID=America/New_York:20260326T153000
DTEND;TZID=America/New_York:20260326T173000
DTSTAMP:20260426T040921
CREATED:20260323T142605Z
LAST-MODIFIED:20260323T142605Z
UID:10705-1774539000-1774546200@careers.rjet.com
SUMMARY:Elizabeth City State University RJet Day
DESCRIPTION:This event is open to only registered students at Elizabeth City State University. Community members not actively enrolled with this organization are encouraged to return to our events page for other upcoming opportunities to meet us in-person. \nJoin our Pilots and Recruiters at Elizabeth City State University! Be prepared to learn about our Cadet program for current Part 141 and Part 61 flight students\, industry-leading Pilot contract\, and early career opportunities at Republic Airways. \nFor more information or questions\, please contact our team at Talent@rjet.com. 
URL:https://careers.rjet.com/event/elizabeth-city-state-university-rjet-day-4/
LOCATION:Elizabeth City State University\, 1704 Weeksville Rd\, Pasquotank County\, North Carolina\, 27909\, United States
CATEGORIES:Pilot
END:VEVENT
BEGIN:VEVENT
DTSTART;TZID=America/New_York:20260326T100000
DTEND;TZID=America/New_York:20260326T140000
DTSTAMP:20260426T040921
CREATED:20260119T153035Z
LAST-MODIFIED:20260119T153035Z
UID:10417-1774519200-1774533600@careers.rjet.com
SUMMARY:MTSU Spring 2026 Aerospace Career Expo
DESCRIPTION:Join our Pilots and Recruiters at ISU’s Flight Academy! Be prepared to learn about our Cadet program for current Part 141 and Part 61 flight students\, industry-leading Pilot contract\, and early career opportunities at Republic Airways. \nFor more information or questions\, please contact our team at Talent@rjet.com. 
URL:https://careers.rjet.com/event/mtsu-spring-2026-aerospace-career-expo/
LOCATION:MTSU Science Building\, Science Building\, Murfreesboro\, Tennessee\, 37132\, United States
CATEGORIES:Pilot
END:VEVENT
BEGIN:VEVENT
DTSTART;TZID=America/New_York:20260326T000000
DTEND;TZID=America/New_York:20260326T234500
DTSTAMP:20260426T040921
CREATED:20260326T174442Z
LAST-MODIFIED:20260326T174442Z
UID:10713-1774483200-1774568700@careers.rjet.com
SUMMARY:Bridgewater State College - RJet Day
DESCRIPTION:Rjet Day – Cadet Presentation led by Rjet Ambassadors
URL:https://careers.rjet.com/event/bridgewater-state-college-rjet-day/
LOCATION:Bridgewater State University\, Moakley Auditorium
CATEGORIES:Pilot
END:VEVENT
BEGIN:VEVENT
DTSTART;TZID=America/New_York:20260324T110000
DTEND;TZID=America/New_York:20260324T123000
DTSTAMP:20260426T040921
CREATED:20260323T143853Z
LAST-MODIFIED:20260323T143853Z
UID:10708-1774350000-1774355400@careers.rjet.com
SUMMARY:University of Maryland Eastern Shore RJet Day
DESCRIPTION:This event is open to only registered students at University of Maryland Eastern Shore. Community members not actively enrolled with this organization are encouraged to return to our events page for other upcoming opportunities to meet us in-person. \nJoin our Pilots and Recruiters at UMES! Be prepared to learn about our Cadet program for current Part 141 and Part 61 flight students\, industry-leading Pilot contract\, and early career opportunities at Republic Airways. \nFor more information or questions\, please contact our team at Talent@rjet.com. 
URL:https://careers.rjet.com/event/university-of-maryland-eastern-shore-rjet-day-5/
LOCATION:University of Maryland Eastern Shore\, 11868 College Backbone Rd\, Princess Anne\, Maryland\, 21853\, United States
CATEGORIES:Pilot
END:VEVENT
BEGIN:VEVENT
DTSTART;TZID=America/New_York:20260324T000000
DTEND;TZID=America/New_York:20260324T234500
DTSTAMP:20260426T040921
CREATED:20260317T192109Z
LAST-MODIFIED:20260317T192109Z
UID:10695-1774310400-1774395900@careers.rjet.com
SUMMARY:Liberty University Spring 2026 Career Fair
DESCRIPTION:
URL:https://careers.rjet.com/event/liberty-university-spring-2026-career-fair/
LOCATION:Liberty University Aviation Maintenance Technician Hangar\, 939 Airport Rd\, Campbell County\, Virginia\, 24502\, United States
CATEGORIES:Pilot
END:VEVENT
BEGIN:VEVENT
DTSTART;TZID=America/Chicago:20260319T000000
DTEND;TZID=America/Chicago:20260321T234500
DTSTAMP:20260426T040921
CREATED:20260317T192107Z
LAST-MODIFIED:20260317T192107Z
UID:10693-1773878400-1774136700@careers.rjet.com
SUMMARY:Women in Aviation Conference
DESCRIPTION:You aren’t going to want to miss this year’s Women in Aviation conference\, being held in Dallas\, Texas\, March 19-21\, 2026. \nThis three-day gathering brings together aviation and aerospace professionals from around the globe for inspiring speakers\, hands-on education\, career opportunities\, and unmatched networking. Don’t miss your chance to connect\, grow\, and be part of the future of aviation and aerospace!  \nRegister Here: https://reg.wai.org/2026/2026registration.cfm \nCome visit Republic Airways booth at booth number 905!
URL:https://careers.rjet.com/event/women-in-aviation-conference-2/
LOCATION:Gaylord Texan Resort & Conference Center\, 1501 Gaylord Trail\, Grapevine\, Texas\, 76051\, United States
CATEGORIES:Pilot
END:VEVENT
BEGIN:VEVENT
DTSTART;TZID=America/New_York:20260318T150000
DTEND;TZID=America/New_York:20260318T190000
DTSTAMP:20260426T040921
CREATED:20260306T152242Z
LAST-MODIFIED:20260306T152242Z
UID:10646-1773846000-1773860400@careers.rjet.com
SUMMARY:Delaware State University Career Fair
DESCRIPTION:This event is open to only registered students at Delaware State University. Community members not actively enrolled with this organization are encouraged to return to our events page for other upcoming opportunities to meet us in-person. \nStop by our booth at DSU Career Fair and chat with Recruiters and Pilots about early career opportunities at Republic Airways. Please register for the event\, so we know to look forward to seeing you there!  \n 
URL:https://careers.rjet.com/event/delaware-state-university-career-fair/
LOCATION:Delaware State University MLK Student Center\, 1200 N Dupont Hwy\, Kent County\, Delaware\, 19901\, United States
CATEGORIES:Pilot
END:VEVENT
BEGIN:VEVENT
DTSTART;TZID=America/Chicago:20260313T080000
DTEND;TZID=America/Chicago:20260313T120000
DTSTAMP:20260426T040921
CREATED:20260121T192214Z
LAST-MODIFIED:20260121T192214Z
UID:10458-1773388800-1773403200@careers.rjet.com
SUMMARY:FAPA Pilot Career Fair - Dallas\, TX
DESCRIPTION:Stop by our booth at the FAPA Pilot Job Fair in Dallas! FAPA Pilot Job Fairs are for qualified\, job seeking pilots with 250+ hours or a commercial certificate. Be prepared to learn about Republic Airways growing fleet and career opportunities.Please register for the event with Republic Airways\, as well as on the FAPA website: FAPA.aero/Jobs.Apply online using the link below! careers.rjet.com/Airline-Careers/PilotFor more information or questions\, please contact our team at PilotRecruitment@rjet.com
URL:https://careers.rjet.com/event/fapa-pilot-career-fair-dallas-tx-2/
LOCATION:Dallas\, TX\, Dallas\, Dallas\, Texas\, United States
CATEGORIES:Pilot
END:VEVENT
BEGIN:VEVENT
DTSTART;TZID=America/New_York:20260305T110000
DTEND;TZID=America/New_York:20260305T140000
DTSTAMP:20260426T040921
CREATED:20260304T144711Z
LAST-MODIFIED:20260304T144711Z
UID:10631-1772708400-1772719200@careers.rjet.com
SUMMARY:UMES RJet Day
DESCRIPTION:Join our Pilots and Recruiters at the UMES RJet Day! Be prepared to learn about our Cadet program for current Part 141 and Part 61 flight students\, industry-leading Pilot contract\, and early career opportunities at Republic Airways. \nFor more information or questions\, please contact our team at Talent@rjet.com. 
URL:https://careers.rjet.com/event/umes-rjet-day/
LOCATION:University of Maryland Eastern Shore\, 11868 College Backbone Rd\, Princess Anne\, Maryland\, 21853\, United States
CATEGORIES:Pilot
END:VEVENT
BEGIN:VEVENT
DTSTART;TZID=America/New_York:20260304T120000
DTEND;TZID=America/New_York:20260304T160000
DTSTAMP:20260426T040921
CREATED:20260302T153417Z
LAST-MODIFIED:20260302T153417Z
UID:10619-1772625600-1772640000@careers.rjet.com
SUMMARY:Saint Louis University 2026 Career Expo
DESCRIPTION:Join our Pilots and Recruiters at the SLU Spring Career Expo! Be prepared to learn about our Cadet program for current Part 141 and Part 61 flight students\, industry-leading Pilot contract\, and early career opportunities at Republic Airways. \nFor more information or questions\, please contact our team at Talent@rjet.com. 
URL:https://careers.rjet.com/event/saint-louis-university-2026-career-expo/
LOCATION:Busch Student Center\, Busch Student Center\, 20 N Grand Blvd\, St. Louis\, MO 63103
CATEGORIES:Pilot
END:VEVENT
BEGIN:VEVENT
DTSTART;TZID=America/New_York:20260304T000000
DTEND;TZID=America/New_York:20260304T234500
DTSTAMP:20260426T040921
CREATED:20260304T135927Z
LAST-MODIFIED:20260304T135927Z
UID:10626-1772582400-1772667900@careers.rjet.com
SUMMARY:Oklahoma State University - Republic Airways Visit
DESCRIPTION:
URL:https://careers.rjet.com/event/oklahoma-state-university-republic-airways-visit/
LOCATION:Oklahoma State University Flight Center\, 3020 N Hargis Rd\, Stillwater\, Oklahoma\, 74075\, United States
CATEGORIES:Pilot
END:VEVENT
BEGIN:VEVENT
DTSTART;TZID=America/Puerto_Rico:20260227T090000
DTEND;TZID=America/Puerto_Rico:20260227T130000
DTSTAMP:20260426T040921
CREATED:20260107T185200Z
LAST-MODIFIED:20260107T185200Z
UID:10363-1772182800-1772197200@careers.rjet.com
SUMMARY:InterAmerican University Career Fair
DESCRIPTION:This event is open to only registered students of Inter American University. Community members not actively enrolled with this organization are encouraged to return to our events page for other upcoming opportunities to meet us in-person. \nStop by our booth at IANCE and chat with Recruiters and Pilots about early career opportunities at Republic Airways. Please register for the event\, so we know to look forward to seeing you there!  \nLocation: InterAmerican University School of Aeronautics at Fernando Luis Ribas Dominicci Airport 
URL:https://careers.rjet.com/event/inter-american-university-career-fair/
LOCATION:Fernando Luis Ribas Dominicci Airport\, Fernando Luis Ribas Dominicci Airport
CATEGORIES:Pilot
END:VEVENT
BEGIN:VEVENT
DTSTART;TZID=America/New_York:20260225T130000
DTEND;TZID=America/New_York:20260225T160000
DTSTAMP:20260426T040921
CREATED:20260129T172446Z
LAST-MODIFIED:20260129T172446Z
UID:10412-1772024400-1772035200@careers.rjet.com
SUMMARY:Indiana State University Spring 2026 Career Fair
DESCRIPTION:Join our Pilots and Recruiters at ISU’s Career Fair! Be prepared to learn about our Cadet program for current Part 141 and Part 61 flight students\, industry-leading Pilot contract\, and early career opportunities at Republic Airways. \nFor more information or questions\, please contact our team at Talent@rjet.com.  \n 
URL:https://careers.rjet.com/event/indiana-state-university-spring-2026-career-fair/
LOCATION:Hulman Center\, 200 N 8th St\, Vigo County\, Indiana\, 47807\, United States
CATEGORIES:Pilot
END:VEVENT
BEGIN:VEVENT
DTSTART;TZID=America/New_York:20260225T110000
DTEND;TZID=America/New_York:20260225T123000
DTSTAMP:20260426T040921
CREATED:20260206T184116Z
LAST-MODIFIED:20260206T184116Z
UID:10534-1772017200-1772022600@careers.rjet.com
SUMMARY:Hampton University RJet Day
DESCRIPTION:This event is open to only registered students at Hampton University. Community members not actively enrolled with this organization are encouraged to return to our events page for other upcoming opportunities to meet us in-person. \nJoin our pilots and recruiters at Hampton University! Be prepared to learn about our Cadet program for current Part 141 and Part 61 flight students\, industry-leading Pilot contract\, and early career opportunities at Republic Airways. Please register for the event\, so we know to look forward to seeing you there!  \nFor more information or questions\, please contact our team at Talent@rjet.com.
URL:https://careers.rjet.com/event/hampton-university-rjet-day-3/
LOCATION:Hampton University\, Science and Technology Building
CATEGORIES:Pilot
END:VEVENT
BEGIN:VEVENT
DTSTART;TZID=America/New_York:20260225T100000
DTEND;TZID=America/New_York:20260225T140000
DTSTAMP:20260426T040921
CREATED:20260129T172350Z
LAST-MODIFIED:20260129T172350Z
UID:10415-1772013600-1772028000@careers.rjet.com
SUMMARY:Kent State University Spring 2026 Career Fair
DESCRIPTION:Join our Pilots and Recruiters at Kent State’s Career Fair! Be prepared to learn about our Cadet program for current Part 141 and Part 61 flight students\, industry-leading Pilot contract\, and early career opportunities at Republic Airways. \nFor more information or questions\, please contact our team at Talent@rjet.com.  \n 
URL:https://careers.rjet.com/event/kent-state-university-spring-2026-career-fair/
LOCATION:Kent State University College of Aeronautics and Engineering\, 1400 Lester A Lefton Esplanade\, Portage County\, 44243\, United States
CATEGORIES:Pilot
END:VEVENT
BEGIN:VEVENT
DTSTART;TZID=America/New_York:20260224T100000
DTEND;TZID=America/New_York:20260224T150000
DTSTAMP:20260426T040921
CREATED:20260129T172529Z
LAST-MODIFIED:20260129T172529Z
UID:10414-1771927200-1771945200@careers.rjet.com
SUMMARY:Auburn University Spring 2026 Career Fair
DESCRIPTION:Join our Pilots and Recruiters at Auburn’s Career Fair! Be prepared to learn about our Cadet program for current Part 141 and Part 61 flight students\, industry-leading Pilot contract\, and early career opportunities at Republic Airways. \nFor more information or questions\, please contact our team at Talent@rjet.com. 
URL:https://careers.rjet.com/event/auburn-university-spring-2026-career-fair/
LOCATION:Melton Student Union\, Student Center\, Auburn\, Alabama\, 36849\, United States
CATEGORIES:Pilot
END:VEVENT
BEGIN:VEVENT
DTSTART;TZID=America/New_York:20260223T141500
DTEND;TZID=America/New_York:20260223T161500
DTSTAMP:20260426T040921
CREATED:20260223T155908Z
LAST-MODIFIED:20260223T155908Z
UID:10597-1771856100-1771863300@careers.rjet.com
SUMMARY:Alpha Eta Rho Conference 2026
DESCRIPTION:Join our Pilots and Recruiters at the Alpha Eta Rho Conference! Be prepared to learn about our Cadet program for current Part 141 and Part 61 flight students\, industry-leading Pilot contract\, and early career opportunities at Republic Airways. \nFor more information or questions\, please contact our team at Talent@rjet.com. 
URL:https://careers.rjet.com/event/alpha-eta-rho-conference-2026/
LOCATION:Ohio State University Airport\, 1278 Scituate Ct\, Westerville OH 43081
CATEGORIES:Pilot
END:VEVENT
BEGIN:VEVENT
DTSTART;TZID=America/New_York:20260220T080000
DTEND;TZID=America/New_York:20260220T120000
DTSTAMP:20260426T040921
CREATED:20260121T191523Z
LAST-MODIFIED:20260121T191523Z
UID:10454-1771574400-1771588800@careers.rjet.com
SUMMARY:FAPA Pilot Career Fair - Orlando\, FL
DESCRIPTION:Stop by our booth at the FAPA Pilot Job Fair in Orlando! FAPA Pilot Job Fairs are for qualified\, job seeking pilots with 250+ hours or a commercial certificate. Be prepared to learn about Republic Airways growing fleet and career opportunities.Please register for the event with Republic Airways\, as well as on the FAPA website: FAPA.aero/Jobs.Apply online using the link below! careers.rjet.com/Airline-Careers/PilotFor more information or questions\, please contact our team at PilotRecruitment@rjet.com
URL:https://careers.rjet.com/event/fapa-pilot-career-fair-orlando-fl/
LOCATION:Orlando\, FL\, Orlando\, Orlando\, United States
CATEGORIES:Pilot
END:VEVENT
BEGIN:VEVENT
DTSTART;TZID=America/New_York:20260218T120000
DTEND;TZID=America/New_York:20260218T140000
DTSTAMP:20260426T040921
CREATED:20260211T200348Z
LAST-MODIFIED:20260211T200348Z
UID:10550-1771416000-1771423200@careers.rjet.com
SUMMARY:University of Maryland Eastern Shore RJet Day
DESCRIPTION:This event is open to only registered students at University of Maryland Eastern Shore. Community members not actively enrolled with this organization are encouraged to return to our events page for other upcoming opportunities to meet us in-person. \nJoin our pilots and recruiters at UMES! Be prepared to learn about our Cadet program for current Part 141 and Part 61 flight students\, industry-leading Pilot contract\, and early career opportunities at Republic Airways. Please register for the event\, so we know to look forward to seeing you there!  \nFor more information or questions\, please contact our team at Talent@rjet.com. 
URL:https://careers.rjet.com/event/university-of-maryland-eastern-shore-rjet-day-4/
LOCATION:University of Maryland Eastern Shore\, 11868 College Backbone Rd\, Princess Anne\, Maryland\, 21853\, United States
CATEGORIES:Pilot
END:VEVENT
BEGIN:VEVENT
DTSTART;TZID=America/New_York:20260212T180000
DTEND;TZID=America/New_York:20260212T193000
DTSTAMP:20260426T040921
CREATED:20260202T202709Z
LAST-MODIFIED:20260202T202709Z
UID:10496-1770919200-1770924600@careers.rjet.com
SUMMARY:Delaware State University RJet Day
DESCRIPTION:This event is open to only registered students at Delaware State University. Community members not actively enrolled with this organization are encouraged to return to our events page for other upcoming opportunities to meet us in-person. \nJoin our pilots and recruiters at DSU! Be prepared to learn about our Cadet program for current Part 141 and Part 61 flight students\, industry-leading Pilot contract\, and early career opportunities at Republic Airways. Please register for the event\, so we know to look forward to seeing you there!  \nFor more information or questions\, please contact our team at Talent@rjet.com. 
URL:https://careers.rjet.com/event/delaware-state-university-rjet-day-6/
LOCATION:Delaware State University MLK Student Center\, 1200 N Dupont Hwy\, Kent County\, Delaware\, 19901\, United States
CATEGORIES:Pilot
END:VEVENT
END:VCALENDAR